BEGIN:VCALENDAR
VERSION:2.0
PRODID:-//Cincinnati Recreation Commission Golf Course - ECPv6.15.18//NONSGML v1.0//EN
CALSCALE:GREGORIAN
METHOD:PUBLISH
X-WR-CALNAME:Cincinnati Recreation Commission Golf Course
X-ORIGINAL-URL:https://www.cincygolf.org
X-WR-CALDESC:Events for Cincinnati Recreation Commission Golf Course
REFRESH-INTERVAL;VALUE=DURATION:PT1H
X-Robots-Tag:noindex
X-PUBLISHED-TTL:PT1H
BEGIN:VTIMEZONE
TZID:UTC
BEGIN:STANDARD
TZOFFSETFROM:+0000
TZOFFSETTO:+0000
TZNAME:UTC
DTSTART:20250101T000000
END:STANDARD
END:VTIMEZONE
BEGIN:VEVENT
DTSTART;TZID=UTC:20260420T180000
DTEND;TZID=UTC:20260420T190000
DTSTAMP:20260420T143458
CREATED:20260402T183410Z
LAST-MODIFIED:20260402T183414Z
UID:10000025-1776708000-1776711600@www.cincygolf.org
SUMMARY:Skills & Drills - Playing Series 1
DESCRIPTION:On-course PGA lessons focused on strategy\, shot selection\, and turning practice into lower scores at Reeves Golf Course.
URL:https://www.cincygolf.org/event/skills-drills-playing-series-1/
ATTACH;FMTTYPE=image/jpeg:https://www.cincygolf.org/wp-content/uploads/sites/9653/2025/08/PLAYINGLESSONS01.jpg
END:VEVENT
END:VCALENDAR